BEGIN:VCALENDAR
VERSION:2.0
PRODID:-//Plone.org//NONSGML plone.app.event//EN
X-WR-TIMEZONE:Europe/Rome
BEGIN:VEVENT
SUMMARY:Ist edition Contest for Chemical Catalysis
DTSTART;TZID=Europe/Rome;VALUE=DATE-TIME:20230418T140000
DTEND;TZID=Europe/Rome;VALUE=DATE-TIME:20230418T183000
DTSTAMP;VALUE=DATE-TIME:20260419T164218Z
UID:8aeb328ca0474ee8ad37485c137a9a34@chemistry.unibo.it
CREATED;VALUE=DATE-TIME:20230404T103552Z
DESCRIPTION:Conrtest between multidisciplinary projects related to catalys
 is\, involving groups of PhDs and PostDocs from different areas\, coordina
 ted by a researcher.
LAST-MODIFIED;VALUE=DATE-TIME:20230404T103944Z
URL:https://chemistry.unibo.it/en/events/ist-edition-contest-for-chemical-
 catalysis
END:VEVENT
BEGIN:VTIMEZONE
TZID:Europe/Rome
X-LIC-LOCATION:Europe/Rome
BEGIN:DAYLIGHT
DTSTART;VALUE=DATE-TIME:20230326T030000
TZNAME:CEST
TZOFFSETFROM:+0100
TZOFFSETTO:+0200
END:DAYLIGHT
END:VTIMEZONE
END:VCALENDAR
