BEGIN:VCALENDAR
VERSION:2.0
PRODID:-//Plone.org//NONSGML plone.app.event//EN
X-WR-TIMEZONE:Europe/Rome
BEGIN:VEVENT
SUMMARY:Seminar by Prof. Wu - Total Synthesis and Biological Evaluation of
  Nuphar Alkaloids
DTSTART;TZID=Europe/Rome;VALUE=DATE-TIME:20230404T141500
DTEND;TZID=Europe/Rome;VALUE=DATE-TIME:20230404T151500
DTSTAMP;VALUE=DATE-TIME:20260419T150813Z
UID:1ff0cd5225d14d5484909ca560f3976c@chemistry.unibo.it
CREATED;VALUE=DATE-TIME:20230328T122109Z
DESCRIPTION:Dartmouth College - USA
LAST-MODIFIED;VALUE=DATE-TIME:20230328T122158Z
URL:https://chemistry.unibo.it/en/events/seminar-by-prof-wu-total-synthesi
 s-and-biological-evaluation-of-nuphar-alkaloids
END:VEVENT
BEGIN:VTIMEZONE
TZID:Europe/Rome
X-LIC-LOCATION:Europe/Rome
BEGIN:DAYLIGHT
DTSTART;VALUE=DATE-TIME:20230326T030000
TZNAME:CEST
TZOFFSETFROM:+0100
TZOFFSETTO:+0200
END:DAYLIGHT
END:VTIMEZONE
END:VCALENDAR
