BEGIN:VCALENDAR
VERSION:2.0
PRODID:-//Plone.org//NONSGML plone.app.event//EN
X-WR-TIMEZONE:Europe/Rome
BEGIN:VEVENT
SUMMARY:Seminar Prof. A. Cavalli - Target-oriented molecular design for pr
 ecision medicine
DTSTART;TZID=Europe/Rome;VALUE=DATE-TIME:20230621T110000
DTEND;TZID=Europe/Rome;VALUE=DATE-TIME:20230621T120000
DTSTAMP;VALUE=DATE-TIME:20260419T161926Z
UID:21e40415ef4b4a789a2d933a294bf124@chemistry.unibo.it
CREATED;VALUE=DATE-TIME:20230615T115957Z
DESCRIPTION:FABIT\, Unibo
LAST-MODIFIED;VALUE=DATE-TIME:20230615T120315Z
URL:https://chemistry.unibo.it/en/events/seminar-prof-a-cavalli
END:VEVENT
BEGIN:VTIMEZONE
TZID:Europe/Rome
X-LIC-LOCATION:Europe/Rome
BEGIN:DAYLIGHT
DTSTART;VALUE=DATE-TIME:20230326T030000
TZNAME:CEST
TZOFFSETFROM:+0100
TZOFFSETTO:+0200
END:DAYLIGHT
END:VTIMEZONE
END:VCALENDAR
