BEGIN:VCALENDAR
VERSION:2.0
PRODID:-//Plone.org//NONSGML plone.app.event//EN
X-WR-TIMEZONE:Europe/Rome
BEGIN:VEVENT
SUMMARY:Seminar\, Prof. V. Fasano - New frontiers in boron chemistry: from
  migration to automation
DTSTART;TZID=Europe/Rome;VALUE=DATE-TIME:20230426T114500
DTEND;TZID=Europe/Rome;VALUE=DATE-TIME:20230426T130000
DTSTAMP;VALUE=DATE-TIME:20260419T150813Z
UID:f5670aeda9254d0aa76c9ba95a9e6c6b@chemistry.unibo.it
CREATED;VALUE=DATE-TIME:20230504T081621Z
DESCRIPTION:Università degli Studi di Milano
LAST-MODIFIED;VALUE=DATE-TIME:20230504T081756Z
URL:https://chemistry.unibo.it/en/events/seminar-prof-v-fasano-new-frontie
 rs-in-boron-chemistry-from-migration-to-automation
END:VEVENT
BEGIN:VTIMEZONE
TZID:Europe/Rome
X-LIC-LOCATION:Europe/Rome
BEGIN:DAYLIGHT
DTSTART;VALUE=DATE-TIME:20230326T030000
TZNAME:CEST
TZOFFSETFROM:+0100
TZOFFSETTO:+0200
END:DAYLIGHT
END:VTIMEZONE
END:VCALENDAR
