BEGIN:VCALENDAR
VERSION:2.0
PRODID:-//Plone.org//NONSGML plone.app.event//EN
X-WR-TIMEZONE:Europe/Rome
BEGIN:VEVENT
SUMMARY:Seminari Prof. G. Rapenne - PROTOTYPE OF MOLECULAR MOTORS\, GEARS 
 AND VEHICLES
DTSTART;TZID=Europe/Rome;VALUE=DATE-TIME:20230308T163000
DTEND;TZID=Europe/Rome;VALUE=DATE-TIME:20230308T173000
DTSTAMP;VALUE=DATE-TIME:20260419T150813Z
UID:e06cde76463c4f289a700183cb2a5bc6@chemistry.unibo.it
CREATED;VALUE=DATE-TIME:20230302T102037Z
DESCRIPTION:University of Paul Sabatier Toulouse\, France and Nara Institu
 te of\nScience and Technology\, Japan
LAST-MODIFIED;VALUE=DATE-TIME:20230302T102109Z
URL:https://chemistry.unibo.it/en/events/seminari-prof-g-rapenne-prototype
 -of-molecular-motors-gears-and-vehicles
END:VEVENT
BEGIN:VTIMEZONE
TZID:Europe/Rome
X-LIC-LOCATION:Europe/Rome
BEGIN:STANDARD
DTSTART;VALUE=DATE-TIME:20221030T020000
TZNAME:CET
TZOFFSETFROM:+0200
TZOFFSETTO:+0100
END:STANDARD
END:VTIMEZONE
END:VCALENDAR
