BEGIN:VCALENDAR
VERSION:2.0
PRODID:-//Plone.org//NONSGML plone.app.event//EN
X-WR-TIMEZONE:Europe/Rome
BEGIN:VEVENT
SUMMARY:Seminario Prof. Andrew Jamieson - Rationally Designed Peptidomimet
 ics: New Tools for Chemical Biology
DTSTART;TZID=Europe/Rome;VALUE=DATE-TIME:20220510T033000
DTEND;TZID=Europe/Rome;VALUE=DATE-TIME:20220510T043000
DTSTAMP;VALUE=DATE-TIME:20260425T033421Z
UID:4dfd2ff75b694fa1aae0f3fdebe96242@chemistry.unibo.it
CREATED;VALUE=DATE-TIME:20220525T104549Z
DESCRIPTION:Advanced Research Centre (ARC) - University of Glasgow (UK)
LAST-MODIFIED;VALUE=DATE-TIME:20220525T104613Z
URL:https://chemistry.unibo.it/en/events/seminario-jamieson
END:VEVENT
BEGIN:VTIMEZONE
TZID:Europe/Rome
X-LIC-LOCATION:Europe/Rome
BEGIN:DAYLIGHT
DTSTART;VALUE=DATE-TIME:20220327T030000
TZNAME:CEST
TZOFFSETFROM:+0100
TZOFFSETTO:+0200
END:DAYLIGHT
END:VTIMEZONE
END:VCALENDAR
